Package: GeneGA Version: 1.59.0 Command: /Library/Frameworks/R.framework/Resources/bin/R CMD INSTALL GeneGA StartedAt: 2025-07-16 15:03:40 -0400 (Wed, 16 Jul 2025) EndedAt: 2025-07-16 15:03:56 -0400 (Wed, 16 Jul 2025) EllapsedTime: 15.8 seconds RetCode: 0 Status: OK