Package: GeneExpressionSignature Version: 1.55.0 Command: F:\biocbuild\bbs-3.22-bioc\R\bin\R.exe CMD INSTALL GeneExpressionSignature StartedAt: 2025-07-24 15:48:47 -0400 (Thu, 24 Jul 2025) EndedAt: 2025-07-24 15:50:58 -0400 (Thu, 24 Jul 2025) EllapsedTime: 130.9 seconds RetCode: 0 Status: OK