Package: GeneExpressionSignature Version: 1.55.0 Command: chmod a+r GeneExpressionSignature -R && F:\biocbuild\bbs-3.22-bioc\R\bin\R.exe CMD build --keep-empty-dirs --no-resave-data GeneExpressionSignature StartedAt: 2025-07-24 19:26:08 -0400 (Thu, 24 Jul 2025) EndedAt: 2025-07-24 19:27:00 -0400 (Thu, 24 Jul 2025) EllapsedTime: 52.4 seconds RetCode: 0 Status: OK PackageFile: GeneExpressionSignature_1.55.0.tar.gz PackageFileSize: 2.545 MiB