Package: GeneBreak Version: 1.39.0 Command: /home/biocbuild/R/R/bin/R CMD build --keep-empty-dirs --no-resave-data GeneBreak StartedAt: 2025-07-14 23:45:20 -0000 (Mon, 14 Jul 2025) EndedAt: 2025-07-14 23:46:00 -0000 (Mon, 14 Jul 2025) EllapsedTime: 40.0 seconds RetCode: 0 Status: OK PackageFile: GeneBreak_1.39.0.tar.gz PackageFileSize: 4.265 MiB