Package: GenVisR Version: 1.41.0 Command: /Library/Frameworks/R.framework/Resources/bin/R CMD build --keep-empty-dirs --no-resave-data GenVisR StartedAt: 2025-07-02 16:25:12 -0400 (Wed, 02 Jul 2025) EndedAt: 2025-07-02 16:26:10 -0400 (Wed, 02 Jul 2025) EllapsedTime: 57.5 seconds RetCode: 0 Status: OK PackageFile: GenVisR_1.41.0.tar.gz PackageFileSize: 4.384 MiB