Package: GeDi Version: 1.5.0 Command: /home/biocbuild/R/R/bin/R CMD INSTALL GeDi StartedAt: 2025-06-30 21:19:09 -0000 (Mon, 30 Jun 2025) EndedAt: 2025-06-30 21:20:15 -0000 (Mon, 30 Jun 2025) EllapsedTime: 66.8 seconds RetCode: 0 Status: OK