Package: GeDi Version: 1.5.0 Command: /home/biocbuild/R/R/bin/R CMD build --keep-empty-dirs --no-resave-data GeDi StartedAt: 2025-06-30 23:46:33 -0000 (Mon, 30 Jun 2025) EndedAt: 2025-06-30 23:47:57 -0000 (Mon, 30 Jun 2025) EllapsedTime: 84.0 seconds RetCode: 1 Status: ERROR PackageFile: None PackageFileSize: NA