Package: GateFinder Version: 1.29.0 Command: rm -rf GateFinder.buildbin-libdir && mkdir GateFinder.buildbin-libdir && F:\biocbuild\bbs-3.22-bioc\R\bin\R.exe CMD INSTALL --build --library=GateFinder.buildbin-libdir GateFinder_1.29.0.tar.gz StartedAt: 2025-07-25 09:17:24 -0400 (Fri, 25 Jul 2025) EndedAt: 2025-07-25 09:17:52 -0400 (Fri, 25 Jul 2025) EllapsedTime: 28.0 seconds RetCode: 0 Status: OK PackageFile: GateFinder_1.29.0.zip PackageFileSize: 868.1 KiB