Package: GWENA Version: 1.19.0 Command: /home/biocbuild/R/R/bin/R CMD build --keep-empty-dirs --no-resave-data GWENA StartedAt: 2025-07-15 00:10:48 -0000 (Tue, 15 Jul 2025) EndedAt: 2025-07-15 00:13:05 -0000 (Tue, 15 Jul 2025) EllapsedTime: 137.1 seconds RetCode: 0 Status: OK PackageFile: GWENA_1.19.0.tar.gz PackageFileSize: 4.938 MiB