Package: GWENA Version: 1.19.0 Command: chmod a+r GWENA -R && F:\biocbuild\bbs-3.22-bioc\R\bin\R.exe CMD build --keep-empty-dirs --no-resave-data GWENA StartedAt: 2025-07-20 19:32:52 -0400 (Sun, 20 Jul 2025) EndedAt: 2025-07-20 19:35:08 -0400 (Sun, 20 Jul 2025) EllapsedTime: 135.9 seconds RetCode: 0 Status: OK PackageFile: GWENA_1.19.0.tar.gz PackageFileSize: 4.217 MiB