Package: GWENA Version: 1.19.0 Command: /Library/Frameworks/R.framework/Resources/bin/R CMD check --install=check:GWENA.install-out.txt --library=/Library/Frameworks/R.framework/Resources/library --no-vignettes --timings GWENA_1.19.0.tar.gz StartedAt: 2025-07-07 21:11:12 -0400 (Mon, 07 Jul 2025) EndedAt: 2025-07-07 21:20:25 -0400 (Mon, 07 Jul 2025) EllapsedTime: 552.8 seconds RetCode: 0 Status: WARNINGS CheckDir: GWENA.Rcheck Warnings: 2