Package: GWENA Version: 1.19.0 Command: /Library/Frameworks/R.framework/Resources/bin/R CMD build --keep-empty-dirs --no-resave-data GWENA StartedAt: 2025-07-04 17:02:26 -0400 (Fri, 04 Jul 2025) EndedAt: 2025-07-04 17:04:28 -0400 (Fri, 04 Jul 2025) EllapsedTime: 122.0 seconds RetCode: 0 Status: OK PackageFile: GWENA_1.19.0.tar.gz PackageFileSize: 4.68 MiB