Package: GWENA Version: 1.19.0 Command: /Library/Frameworks/R.framework/Resources/bin/R CMD INSTALL GWENA StartedAt: 2025-07-09 15:31:28 -0400 (Wed, 09 Jul 2025) EndedAt: 2025-07-09 15:31:43 -0400 (Wed, 09 Jul 2025) EllapsedTime: 15.3 seconds RetCode: 0 Status: OK