Package: GWENA Version: 1.19.0 Command: /Library/Frameworks/R.framework/Resources/bin/R CMD build --keep-empty-dirs --no-resave-data GWENA StartedAt: 2025-07-09 16:41:22 -0400 (Wed, 09 Jul 2025) EndedAt: 2025-07-09 16:42:14 -0400 (Wed, 09 Jul 2025) EllapsedTime: 52.5 seconds RetCode: 0 Status: OK PackageFile: GWENA_1.19.0.tar.gz PackageFileSize: 4.683 MiB