Package: GWAS.BAYES Version: 1.19.0 Command: rm -rf GWAS.BAYES.buildbin-libdir && mkdir GWAS.BAYES.buildbin-libdir && /Users/biocbuild/BBS/utils/build-universal.sh GWAS.BAYES_1.19.0.tar.gz /Library/Frameworks/R.framework/Resources/bin/R GWAS.BAYES.buildbin-libdir StartedAt: 2025-07-02 22:21:58 -0400 (Wed, 02 Jul 2025) EndedAt: 2025-07-02 22:22:01 -0400 (Wed, 02 Jul 2025) EllapsedTime: 3.1 seconds RetCode: 0 Status: OK PackageFile: GWAS.BAYES_1.19.0.tgz PackageFileSize: 2.007 MiB