Package: GUIDEseq Version: 1.39.0 Command: /Library/Frameworks/R.framework/Resources/bin/R CMD INSTALL GUIDEseq StartedAt: 2025-10-05 15:27:41 -0400 (Sun, 05 Oct 2025) EndedAt: 2025-10-05 15:28:03 -0400 (Sun, 05 Oct 2025) EllapsedTime: 22.1 seconds RetCode: 0 Status: OK