Package: GSVA Version: 2.3.1 Command: F:\biocbuild\bbs-3.22-bioc\R\bin\R.exe CMD check --no-multiarch --install=check:GSVA.install-out.txt --library=F:\biocbuild\bbs-3.22-bioc\R\library --no-vignettes --timings GSVA_2.3.1.tar.gz StartedAt: 2025-07-23 02:54:35 -0400 (Wed, 23 Jul 2025) EndedAt: 2025-07-23 03:07:39 -0400 (Wed, 23 Jul 2025) EllapsedTime: 783.8 seconds RetCode: 0 Status: OK CheckDir: GSVA.Rcheck Warnings: 0