Package: GSVA Version: 2.3.1 Command: chmod a+r GSVA -R && F:\biocbuild\bbs-3.22-bioc\R\bin\R.exe CMD build --keep-empty-dirs --no-resave-data GSVA StartedAt: 2025-07-22 19:34:02 -0400 (Tue, 22 Jul 2025) EndedAt: 2025-07-22 19:36:44 -0400 (Tue, 22 Jul 2025) EllapsedTime: 161.1 seconds RetCode: 0 Status: OK PackageFile: GSVA_2.3.1.tar.gz PackageFileSize: 2.222 MiB