Package: GSVA Version: 2.3.1 Command: rm -rf GSVA.buildbin-libdir && mkdir GSVA.buildbin-libdir && F:\biocbuild\bbs-3.22-bioc\R\bin\R.exe CMD INSTALL --build --library=GSVA.buildbin-libdir GSVA_2.3.1.tar.gz StartedAt: 2025-07-23 09:17:15 -0400 (Wed, 23 Jul 2025) EndedAt: 2025-07-23 09:18:34 -0400 (Wed, 23 Jul 2025) EllapsedTime: 78.7 seconds RetCode: 0 Status: OK PackageFile: GSVA_2.3.1.zip PackageFileSize: 2.114 MiB