Package: GSVA Version: 2.3.1 Command: /Library/Frameworks/R.framework/Resources/bin/R CMD INSTALL GSVA StartedAt: 2025-07-21 15:45:12 -0400 (Mon, 21 Jul 2025) EndedAt: 2025-07-21 15:46:06 -0400 (Mon, 21 Jul 2025) EllapsedTime: 54.0 seconds RetCode: 0 Status: OK