Package: GSVA Version: 2.3.1 Command: /Library/Frameworks/R.framework/Resources/bin/R CMD build --keep-empty-dirs --no-resave-data GSVA StartedAt: 2025-07-21 17:01:48 -0400 (Mon, 21 Jul 2025) EndedAt: 2025-07-21 17:03:57 -0400 (Mon, 21 Jul 2025) EllapsedTime: 129.2 seconds RetCode: 0 Status: OK PackageFile: GSVA_2.3.1.tar.gz PackageFileSize: 2.63 MiB