Package: GSVA Version: 2.3.1 Command: rm -rf GSVA.buildbin-libdir && mkdir GSVA.buildbin-libdir && /Users/biocbuild/BBS/utils/build-universal.sh GSVA_2.3.1.tar.gz /Library/Frameworks/R.framework/Resources/bin/R GSVA.buildbin-libdir StartedAt: 2025-07-22 01:04:39 -0400 (Tue, 22 Jul 2025) EndedAt: 2025-07-22 01:05:42 -0400 (Tue, 22 Jul 2025) EllapsedTime: 62.4 seconds RetCode: 0 Status: OK PackageFile: GSVA_2.3.1.tgz PackageFileSize: 2.511 MiB