Package: GSVA Version: 2.3.1 Command: /Library/Frameworks/R.framework/Resources/bin/R CMD INSTALL GSVA StartedAt: 2025-07-22 15:29:16 -0400 (Tue, 22 Jul 2025) EndedAt: 2025-07-22 15:29:36 -0400 (Tue, 22 Jul 2025) EllapsedTime: 19.6 seconds RetCode: 0 Status: OK