Package: GSVA Version: 2.3.1 Command: /Library/Frameworks/R.framework/Resources/bin/R CMD check --install=check:GSVA.install-out.txt --library=/Library/Frameworks/R.framework/Resources/library --no-vignettes --timings GSVA_2.3.1.tar.gz StartedAt: 2025-07-22 19:38:42 -0400 (Tue, 22 Jul 2025) EndedAt: 2025-07-22 19:42:08 -0400 (Tue, 22 Jul 2025) EllapsedTime: 205.5 seconds RetCode: 0 Status: OK CheckDir: GSVA.Rcheck Warnings: 0