Package: GSVA Version: 2.3.1 Command: /Library/Frameworks/R.framework/Resources/bin/R CMD build --keep-empty-dirs --no-resave-data GSVA StartedAt: 2025-07-22 16:32:15 -0400 (Tue, 22 Jul 2025) EndedAt: 2025-07-22 16:33:07 -0400 (Tue, 22 Jul 2025) EllapsedTime: 51.6 seconds RetCode: 0 Status: OK PackageFile: GSVA_2.3.1.tar.gz PackageFileSize: 2.63 MiB