Package: GSReg Version: 1.43.0 Command: /Library/Frameworks/R.framework/Resources/bin/R CMD check --install=check:GSReg.install-out.txt --library=/Library/Frameworks/R.framework/Resources/library --no-vignettes --timings GSReg_1.43.0.tar.gz StartedAt: 2025-06-30 20:58:24 -0400 (Mon, 30 Jun 2025) EndedAt: 2025-06-30 21:01:14 -0400 (Mon, 30 Jun 2025) EllapsedTime: 170.1 seconds RetCode: 0 Status: WARNINGS CheckDir: GSReg.Rcheck Warnings: 3