Package: GSReg Version: 1.43.0 Command: /Library/Frameworks/R.framework/Resources/bin/R CMD build --keep-empty-dirs --no-resave-data GSReg StartedAt: 2025-06-29 16:58:40 -0400 (Sun, 29 Jun 2025) EndedAt: 2025-06-29 17:00:20 -0400 (Sun, 29 Jun 2025) EllapsedTime: 100.2 seconds RetCode: 0 Status: OK PackageFile: GSReg_1.43.0.tar.gz PackageFileSize: 465.3 KiB