Package: GSReg Version: 1.43.0 Command: rm -rf GSReg.buildbin-libdir && mkdir GSReg.buildbin-libdir && /Users/biocbuild/BBS/utils/build-universal.sh GSReg_1.43.0.tar.gz /Library/Frameworks/R.framework/Resources/bin/R GSReg.buildbin-libdir StartedAt: 2025-06-30 00:42:25 -0400 (Mon, 30 Jun 2025) EndedAt: 2025-06-30 00:43:20 -0400 (Mon, 30 Jun 2025) EllapsedTime: 55.6 seconds RetCode: 0 Status: OK PackageFile: GSReg_1.43.0.tgz PackageFileSize: 380.2 KiB