Package: GSRI Version: 2.57.0 Command: /home/biocbuild/R/R/bin/R CMD INSTALL GSRI StartedAt: 2025-07-07 20:39:44 -0000 (Mon, 07 Jul 2025) EndedAt: 2025-07-07 20:40:10 -0000 (Mon, 07 Jul 2025) EllapsedTime: 25.7 seconds RetCode: 0 Status: OK