Package: GSRI Version: 2.57.0 Command: /home/biocbuild/R/R/bin/R CMD build --keep-empty-dirs --no-resave-data GSRI StartedAt: 2025-07-08 00:00:48 -0000 (Tue, 08 Jul 2025) EndedAt: 2025-07-08 00:01:39 -0000 (Tue, 08 Jul 2025) EllapsedTime: 51.1 seconds RetCode: 0 Status: OK PackageFile: GSRI_2.57.0.tar.gz PackageFileSize: 324.6 KiB