Package: GSRI Version: 2.57.0 Command: /Library/Frameworks/R.framework/Resources/bin/R CMD check --install=check:GSRI.install-out.txt --library=/Library/Frameworks/R.framework/Resources/library --no-vignettes --timings GSRI_2.57.0.tar.gz StartedAt: 2025-07-01 19:35:01 -0400 (Tue, 01 Jul 2025) EndedAt: 2025-07-01 19:36:01 -0400 (Tue, 01 Jul 2025) EllapsedTime: 60.8 seconds RetCode: 0 Status: OK CheckDir: GSRI.Rcheck Warnings: 0