Package: GSRI Version: 2.57.0 Command: /Library/Frameworks/R.framework/Resources/bin/R CMD build --keep-empty-dirs --no-resave-data GSRI StartedAt: 2025-07-01 16:31:39 -0400 (Tue, 01 Jul 2025) EndedAt: 2025-07-01 16:31:58 -0400 (Tue, 01 Jul 2025) EllapsedTime: 19.2 seconds RetCode: 0 Status: OK PackageFile: GSRI_2.57.0.tar.gz PackageFileSize: 338.9 KiB