Package: GSEAmining Version: 1.19.0 Command: F:\biocbuild\bbs-3.22-bioc\R\bin\R.exe CMD INSTALL GSEAmining StartedAt: 2025-07-16 15:31:50 -0400 (Wed, 16 Jul 2025) EndedAt: 2025-07-16 15:32:05 -0400 (Wed, 16 Jul 2025) EllapsedTime: 15.7 seconds RetCode: 0 Status: OK