Package: GSEAmining Version: 1.19.0 Command: rm -rf GSEAmining.buildbin-libdir && mkdir GSEAmining.buildbin-libdir && F:\biocbuild\bbs-3.22-bioc\R\bin\R.exe CMD INSTALL --build --library=GSEAmining.buildbin-libdir GSEAmining_1.19.0.tar.gz StartedAt: 2025-07-17 09:07:33 -0400 (Thu, 17 Jul 2025) EndedAt: 2025-07-17 09:07:57 -0400 (Thu, 17 Jul 2025) EllapsedTime: 24.4 seconds RetCode: 0 Status: OK PackageFile: GSEAmining_1.19.0.zip PackageFileSize: 664.8 KiB