Package: GSEAmining Version: 1.19.0 Command: rm -rf GSEAmining.buildbin-libdir && mkdir GSEAmining.buildbin-libdir && /Users/biocbuild/BBS/utils/build-universal.sh GSEAmining_1.19.0.tar.gz /Library/Frameworks/R.framework/Resources/bin/R GSEAmining.buildbin-libdir StartedAt: 2025-10-06 02:04:17 -0400 (Mon, 06 Oct 2025) EndedAt: 2025-10-06 02:04:34 -0400 (Mon, 06 Oct 2025) EllapsedTime: 16.3 seconds RetCode: 0 Status: OK PackageFile: GSEAmining_1.19.0.tgz PackageFileSize: 1.505 MiB