Package: GSEABenchmarkeR Version: 1.29.1 Command: /home/biocbuild/R/R/bin/R CMD INSTALL GSEABenchmarkeR StartedAt: 2025-07-10 22:15:20 -0000 (Thu, 10 Jul 2025) EndedAt: 2025-07-10 22:15:48 -0000 (Thu, 10 Jul 2025) EllapsedTime: 27.9 seconds RetCode: 0 Status: OK