Package: GSEABenchmarkeR Version: 1.29.1 Command: /home/biocbuild/R/R/bin/R CMD check --install=check:GSEABenchmarkeR.install-out.txt --library=/home/biocbuild/R/R/site-library --no-vignettes --timings GSEABenchmarkeR_1.29.1.tar.gz StartedAt: 2025-07-11 08:57:32 -0000 (Fri, 11 Jul 2025) EndedAt: 2025-07-11 09:03:57 -0000 (Fri, 11 Jul 2025) EllapsedTime: 385.4 seconds RetCode: 0 Status: OK CheckDir: GSEABenchmarkeR.Rcheck Warnings: 0