Package: GSEABenchmarkeR Version: 1.29.1 Command: /home/biocbuild/R/R/bin/R CMD build --keep-empty-dirs --no-resave-data GSEABenchmarkeR StartedAt: 2025-07-11 01:20:14 -0000 (Fri, 11 Jul 2025) EndedAt: 2025-07-11 01:22:46 -0000 (Fri, 11 Jul 2025) EllapsedTime: 152.1 seconds RetCode: 0 Status: OK PackageFile: GSEABenchmarkeR_1.29.1.tar.gz PackageFileSize: 547.1 KiB