Package: GSEABenchmarkeR Version: 1.29.1 Command: /home/biocbuild/bbs-3.22-bioc/R/bin/R CMD INSTALL GSEABenchmarkeR StartedAt: 2025-07-01 15:57:19 -0400 (Tue, 01 Jul 2025) EndedAt: 2025-07-01 15:57:39 -0400 (Tue, 01 Jul 2025) EllapsedTime: 20.4 seconds RetCode: 0 Status: OK