Package: GSEABenchmarkeR Version: 1.29.1 Command: rm -rf GSEABenchmarkeR.buildbin-libdir && mkdir GSEABenchmarkeR.buildbin-libdir && /Users/biocbuild/BBS/utils/build-universal.sh GSEABenchmarkeR_1.29.1.tar.gz /Library/Frameworks/R.framework/Resources/bin/R GSEABenchmarkeR.buildbin-libdir StartedAt: 2025-07-18 00:54:54 -0400 (Fri, 18 Jul 2025) EndedAt: 2025-07-18 00:55:26 -0400 (Fri, 18 Jul 2025) EllapsedTime: 32.4 seconds RetCode: 0 Status: OK PackageFile: GSEABenchmarkeR_1.29.1.tgz PackageFileSize: 682.6 KiB