Package: GSEABase Version: 1.71.0 Command: /Library/Frameworks/R.framework/Resources/bin/R CMD INSTALL GSEABase StartedAt: 2025-07-04 15:24:05 -0400 (Fri, 04 Jul 2025) EndedAt: 2025-07-04 15:24:30 -0400 (Fri, 04 Jul 2025) EllapsedTime: 25.6 seconds RetCode: 0 Status: OK