Package: GSEABase Version: 1.71.0 Command: /Library/Frameworks/R.framework/Resources/bin/R CMD check --install=check:GSEABase.install-out.txt --library=/Library/Frameworks/R.framework/Resources/library --no-vignettes --timings GSEABase_1.71.0.tar.gz StartedAt: 2025-07-04 21:00:37 -0400 (Fri, 04 Jul 2025) EndedAt: 2025-07-04 21:03:13 -0400 (Fri, 04 Jul 2025) EllapsedTime: 156.1 seconds RetCode: 0 Status: OK CheckDir: GSEABase.Rcheck Warnings: 0