Package: GSEABase Version: 1.71.0 Command: /Library/Frameworks/R.framework/Resources/bin/R CMD build --keep-empty-dirs --no-resave-data GSEABase StartedAt: 2025-07-04 17:00:48 -0400 (Fri, 04 Jul 2025) EndedAt: 2025-07-04 17:02:13 -0400 (Fri, 04 Jul 2025) EllapsedTime: 85.0 seconds RetCode: 0 Status: OK PackageFile: GSEABase_1.71.0.tar.gz PackageFileSize: 292.5 KiB