Package: GSAR Version: 1.43.2 Command: /home/biocbuild/R/R/bin/R CMD build --keep-empty-dirs --no-resave-data GSAR StartedAt: 2025-07-11 01:19:54 -0000 (Fri, 11 Jul 2025) EndedAt: 2025-07-11 01:27:24 -0000 (Fri, 11 Jul 2025) EllapsedTime: 449.9 seconds RetCode: 0 Status: OK PackageFile: GSAR_1.43.2.tar.gz PackageFileSize: 1.765 MiB