Package: GSALightning Version: 1.37.0 Command: chmod a+r GSALightning -R && F:\biocbuild\bbs-3.22-bioc\R\bin\R.exe CMD build --keep-empty-dirs --no-resave-data GSALightning StartedAt: 2025-07-24 19:41:48 -0400 (Thu, 24 Jul 2025) EndedAt: 2025-07-24 19:43:26 -0400 (Thu, 24 Jul 2025) EllapsedTime: 98.2 seconds RetCode: 0 Status: OK PackageFile: GSALightning_1.37.0.tar.gz PackageFileSize: 4.222 MiB