Package: GSALightning Version: 1.37.0 Command: /Library/Frameworks/R.framework/Resources/bin/R CMD build --keep-empty-dirs --no-resave-data GSALightning StartedAt: 2025-07-07 16:29:33 -0400 (Mon, 07 Jul 2025) EndedAt: 2025-07-07 16:30:01 -0400 (Mon, 07 Jul 2025) EllapsedTime: 28.3 seconds RetCode: 0 Status: OK PackageFile: GSALightning_1.37.0.tar.gz PackageFileSize: 4.273 MiB