Package: GRmetrics Version: 1.35.0 Command: /home/biocbuild/R/R/bin/R CMD INSTALL GRmetrics StartedAt: 2025-07-21 20:47:02 -0000 (Mon, 21 Jul 2025) EndedAt: 2025-07-21 20:47:32 -0000 (Mon, 21 Jul 2025) EllapsedTime: 29.2 seconds RetCode: 0 Status: OK