Package: GRmetrics Version: 1.35.0 Command: /home/biocbuild/R/R/bin/R CMD check --install=check:GRmetrics.install-out.txt --library=/home/biocbuild/R/R/site-library --no-vignettes --timings GRmetrics_1.35.0.tar.gz StartedAt: 2025-07-22 08:04:28 -0000 (Tue, 22 Jul 2025) EndedAt: 2025-07-22 08:07:02 -0000 (Tue, 22 Jul 2025) EllapsedTime: 154.1 seconds RetCode: 0 Status: OK CheckDir: GRmetrics.Rcheck Warnings: 0