Package: GRmetrics Version: 1.35.0 Command: /home/biocbuild/R/R/bin/R CMD build --keep-empty-dirs --no-resave-data GRmetrics StartedAt: 2025-07-22 00:13:43 -0000 (Tue, 22 Jul 2025) EndedAt: 2025-07-22 00:14:47 -0000 (Tue, 22 Jul 2025) EllapsedTime: 64.0 seconds RetCode: 0 Status: OK PackageFile: GRmetrics_1.35.0.tar.gz PackageFileSize: 2.245 MiB