Package: GRmetrics Version: 1.35.0 Command: F:\biocbuild\bbs-3.22-bioc\R\bin\R.exe CMD INSTALL GRmetrics StartedAt: 2025-07-20 16:38:55 -0400 (Sun, 20 Jul 2025) EndedAt: 2025-07-20 16:39:24 -0400 (Sun, 20 Jul 2025) EllapsedTime: 28.6 seconds RetCode: 0 Status: OK